BEGIN:VCALENDAR
VERSION:2.0
PRODID:-//D`Windachtaler Hofstetten e.V. - ECPv6.9.1//NONSGML v1.0//EN
CALSCALE:GREGORIAN
METHOD:PUBLISH
X-WR-CALNAME:D`Windachtaler Hofstetten e.V.
X-ORIGINAL-URL:https://www.trachtenverein-hofstetten.de
X-WR-CALDESC:Veranstaltungen für D`Windachtaler Hofstetten e.V.
REFRESH-INTERVAL;VALUE=DURATION:PT1H
X-Robots-Tag:noindex
X-PUBLISHED-TTL:PT1H
BEGIN:VTIMEZONE
TZID:Europe/Berlin
BEGIN:DAYLIGHT
TZOFFSETFROM:+0100
TZOFFSETTO:+0200
TZNAME:CEST
DTSTART:20250330T010000
END:DAYLIGHT
BEGIN:STANDARD
TZOFFSETFROM:+0200
TZOFFSETTO:+0100
TZNAME:CET
DTSTART:20251026T010000
END:STANDARD
BEGIN:DAYLIGHT
TZOFFSETFROM:+0100
TZOFFSETTO:+0200
TZNAME:CEST
DTSTART:20260329T010000
END:DAYLIGHT
BEGIN:STANDARD
TZOFFSETFROM:+0200
TZOFFSETTO:+0100
TZNAME:CET
DTSTART:20261025T010000
END:STANDARD
END:VTIMEZONE
BEGIN:VEVENT
DTSTART;TZID=Europe/Berlin:20260404T140000
DTEND;TZID=Europe/Berlin:20260404T160000
DTSTAMP:20260423T103017
CREATED:20260114T211957Z
LAST-MODIFIED:20260114T211957Z
UID:1320-1775311200-1775318400@www.trachtenverein-hofstetten.de
SUMMARY:Eierkugeln
DESCRIPTION:Am Ostend-Spielplatz trifft man sich wie jedes Jahr zum Eierkugeln.
URL:https://www.trachtenverein-hofstetten.de/event/eierkugeln-2/
LOCATION:Spielplatz\, Ostend\, Hofstetten\, 86928\, Germany
END:VEVENT
BEGIN:VEVENT
DTSTART;TZID=Europe/Berlin:20260328T200000
DTEND;TZID=Europe/Berlin:20260328T230000
DTSTAMP:20260423T103017
CREATED:20260114T211738Z
LAST-MODIFIED:20260114T211738Z
UID:1316-1774728000-1774738800@www.trachtenverein-hofstetten.de
SUMMARY:Frühjahrs-Gauversammlung
DESCRIPTION:Die Delegierten der Lechgau-Vereine versammeln sich im Haus der Vereine in Hohenpeißenberg.
URL:https://www.trachtenverein-hofstetten.de/event/fruehjahrs-gauversammlung-2/
LOCATION:Haus der Vereine\, Hohenpeißenberg
END:VEVENT
BEGIN:VEVENT
DTSTART;TZID=Europe/Berlin:20260327T200000
DTEND;TZID=Europe/Berlin:20260327T223000
DTSTAMP:20260423T103017
CREATED:20260114T211246Z
LAST-MODIFIED:20260114T211246Z
UID:1314-1774641600-1774650600@www.trachtenverein-hofstetten.de
SUMMARY:Frühjahrs-Vorplattlerprobe
DESCRIPTION:Im Gemeinschaftshaus in Apfeldorf treffen sich die Vorplattler und Dirndlvertreterinnen der Lechgauvereine.
URL:https://www.trachtenverein-hofstetten.de/event/fruehjahrs-vorplattlerprobe-2/
END:VEVENT
BEGIN:VEVENT
DTSTART;TZID=Europe/Berlin:20260314T093000
DTEND;TZID=Europe/Berlin:20260314T160000
DTSTAMP:20260423T103017
CREATED:20260114T211013Z
LAST-MODIFIED:20260114T211013Z
UID:1312-1773480600-1773504000@www.trachtenverein-hofstetten.de
SUMMARY:Trachtentausch
DESCRIPTION:In der Schulaula werden zu klein gewordene Trachten\, Lederhosen und Zubehör getauscht.
URL:https://www.trachtenverein-hofstetten.de/event/trachtentausch-2/
END:VEVENT
BEGIN:VEVENT
DTSTART;TZID=Europe/Berlin:20260214T160000
DTEND;TZID=Europe/Berlin:20260214T180000
DTSTAMP:20260423T103017
CREATED:20260114T210038Z
LAST-MODIFIED:20260114T210038Z
UID:1310-1771084800-1771092000@www.trachtenverein-hofstetten.de
SUMMARY:Eislaufen Buchloe
DESCRIPTION:Unsere Abteilung Eishockey hat eine Eiszeit für die Trachtenjugend und deren Familien reserviert.
URL:https://www.trachtenverein-hofstetten.de/event/eislaufen-buchloe/
END:VEVENT
BEGIN:VEVENT
DTSTART;TZID=Europe/Berlin:20251216T163000
DTEND;TZID=Europe/Berlin:20251216T163000
DTSTAMP:20260423T103018
CREATED:20250212T195000Z
LAST-MODIFIED:20250319T105548Z
UID:554-1765902600-1765902600@www.trachtenverein-hofstetten.de
SUMMARY:Waldweinacht
DESCRIPTION:
URL:https://www.trachtenverein-hofstetten.de/event/waldweinacht/
CATEGORIES:Trachtenverein
END:VEVENT
BEGIN:VEVENT
DTSTART;TZID=Europe/Berlin:20251213T190000
DTEND;TZID=Europe/Berlin:20251213T190000
DTSTAMP:20260423T103018
CREATED:20250212T194833Z
LAST-MODIFIED:20250319T105530Z
UID:552-1765652400-1765652400@www.trachtenverein-hofstetten.de
SUMMARY:Weihnachtsfeier
DESCRIPTION:
URL:https://www.trachtenverein-hofstetten.de/event/weihnachtsfeier/
LOCATION:Hipp\, Westerschondorfer Str. 15\, Hofstetten\, 86928\, Germany
CATEGORIES:Trachtenverein
END:VEVENT
BEGIN:VEVENT
DTSTART;TZID=Europe/Berlin:20251207T160000
DTEND;TZID=Europe/Berlin:20251207T160000
DTSTAMP:20260423T103018
CREATED:20250212T194715Z
LAST-MODIFIED:20250213T102610Z
UID:550-1765123200-1765123200@www.trachtenverein-hofstetten.de
SUMMARY:Adventssingen
DESCRIPTION:Dieses Jahr laden die Wurzbergler Reichling zum Adventssingen des Lechgaus in die Pfarrkirche Reichling ein.
URL:https://www.trachtenverein-hofstetten.de/event/advendssingen/
CATEGORIES:Trachtenverein
END:VEVENT
BEGIN:VEVENT
DTSTART;TZID=Europe/Berlin:20251122T200000
DTEND;TZID=Europe/Berlin:20251122T235900
DTSTAMP:20260423T103018
CREATED:20250212T194433Z
LAST-MODIFIED:20250215T061340Z
UID:548-1763841600-1763855940@www.trachtenverein-hofstetten.de
SUMMARY:Kathreintanz
DESCRIPTION:Lechhalle\, Lechbruck
URL:https://www.trachtenverein-hofstetten.de/event/kathreintanz/
CATEGORIES:Trachtenverein
END:VEVENT
BEGIN:VEVENT
DTSTART;TZID=Europe/Berlin:20251115T113000
DTEND;TZID=Europe/Berlin:20251115T160000
DTSTAMP:20260423T103018
CREATED:20250212T194253Z
LAST-MODIFIED:20250212T194253Z
UID:546-1763206200-1763222400@www.trachtenverein-hofstetten.de
SUMMARY:Jubilare-Essen
DESCRIPTION:
URL:https://www.trachtenverein-hofstetten.de/event/jubilare-essen-2/
LOCATION:Hipp\, Westerschondorfer Str. 15\, Hofstetten\, 86928\, Germany
CATEGORIES:Trachtenverein
END:VEVENT
BEGIN:VEVENT
DTSTART;TZID=Europe/Berlin:20251107T200000
DTEND;TZID=Europe/Berlin:20251107T200000
DTSTAMP:20260423T103018
CREATED:20250212T194057Z
LAST-MODIFIED:20250808T121057Z
UID:544-1762545600-1762545600@www.trachtenverein-hofstetten.de
SUMMARY:Jahreshauptversammlung
DESCRIPTION:
URL:https://www.trachtenverein-hofstetten.de/event/jahreshauptversammlung/
LOCATION:Hipp\, Westerschondorfer Str. 15\, Hofstetten\, 86928\, Germany
CATEGORIES:Trachtenverein
END:VEVENT
BEGIN:VEVENT
DTSTART;TZID=Europe/Berlin:20251026T084500
DTEND;TZID=Europe/Berlin:20251026T170000
DTSTAMP:20260423T103018
CREATED:20250212T193939Z
LAST-MODIFIED:20250215T061133Z
UID:541-1761468300-1761498000@www.trachtenverein-hofstetten.de
SUMMARY:Jugend-Wertungsplatteln
DESCRIPTION:Bürgerhaus\, Westendorf
URL:https://www.trachtenverein-hofstetten.de/event/jugend-wertungsplatteln/
CATEGORIES:Trachtenverein
END:VEVENT
BEGIN:VEVENT
DTSTART;TZID=Europe/Berlin:20251025T200000
DTEND;TZID=Europe/Berlin:20251025T230000
DTSTAMP:20260423T103018
CREATED:20250212T193711Z
LAST-MODIFIED:20250215T061027Z
UID:538-1761422400-1761433200@www.trachtenverein-hofstetten.de
SUMMARY:Herbst-Gauversammlung
DESCRIPTION:Steingaden
URL:https://www.trachtenverein-hofstetten.de/event/herbst-gauversammlung/
CATEGORIES:Trachtenverein
END:VEVENT
BEGIN:VEVENT
DTSTART;TZID=Europe/Berlin:20251018T193000
DTEND;TZID=Europe/Berlin:20251018T233000
DTSTAMP:20260423T103018
CREATED:20250212T162321Z
LAST-MODIFIED:20250215T060827Z
UID:468-1760815800-1760830200@www.trachtenverein-hofstetten.de
SUMMARY:Vereinsabend
DESCRIPTION:Traditionell veranstalten wir am Kirchweihsamstag unseren Vereinsabend mit Auftritten \nder aktiven Plattelgruppe und der Trachtenjugend sowie Ehrungen verdienter Mitglieder.
URL:https://www.trachtenverein-hofstetten.de/event/vereinsabend-2/
LOCATION:Hipp\, Westerschondorfer Str. 15\, Hofstetten\, 86928\, Germany
CATEGORIES:Trachtenverein
END:VEVENT
BEGIN:VEVENT
DTSTART;TZID=Europe/Berlin:20251017T200000
DTEND;TZID=Europe/Berlin:20251017T230000
DTSTAMP:20260423T103018
CREATED:20250212T193316Z
LAST-MODIFIED:20250215T060719Z
UID:533-1760731200-1760742000@www.trachtenverein-hofstetten.de
SUMMARY:Jugendleiterbesprechung
DESCRIPTION:Gasthof Graf\, Steingaden
URL:https://www.trachtenverein-hofstetten.de/event/jugendleiterbesprechung/
CATEGORIES:Trachtenverein
END:VEVENT
BEGIN:VEVENT
DTSTART;TZID=Europe/Berlin:20250925T200000
DTEND;TZID=Europe/Berlin:20250925T220000
DTSTAMP:20260423T103018
CREATED:20250212T192957Z
LAST-MODIFIED:20250215T060547Z
UID:529-1758830400-1758837600@www.trachtenverein-hofstetten.de
SUMMARY:Volksmusikwartebesprechung
DESCRIPTION:Vereinsheim Kaufbeuren
URL:https://www.trachtenverein-hofstetten.de/event/volksmusikwartebesprechung/
CATEGORIES:Trachtenverein
END:VEVENT
BEGIN:VEVENT
DTSTART;TZID=Europe/Berlin:20250907T091500
DTEND;TZID=Europe/Berlin:20250907T091500
DTSTAMP:20260423T103018
CREATED:20250212T192554Z
LAST-MODIFIED:20250215T060425Z
UID:526-1757236500-1757236500@www.trachtenverein-hofstetten.de
SUMMARY:Gauwallfahrt Hohenpeißenberg
DESCRIPTION:Aufstellung in Bergmannstraße um 09:15 Uhr. \nAbmarsch 09:30Uhr
URL:https://www.trachtenverein-hofstetten.de/event/gauwallfahrt-hohenpeissenberg/
CATEGORIES:Trachtenverein
END:VEVENT
BEGIN:VEVENT
DTSTART;TZID=Europe/Berlin:20250727T120000
DTEND;TZID=Europe/Berlin:20250727T180000
DTSTAMP:20260423T103018
CREATED:20250513T122032Z
LAST-MODIFIED:20250721T132130Z
UID:1074-1753617600-1753639200@www.trachtenverein-hofstetten.de
SUMMARY:Oberes Lechgaufest Urspring
DESCRIPTION:Abfahrt mit dem Bus um 12.00 Uhr an der Turnhalle \nAufstellung zum Festumzug um 13.00 Uhr\, \nFestumzug um 13.30 Uhr. \nRückfahrt gegen 17.00 Uhr.
URL:https://www.trachtenverein-hofstetten.de/event/oberes-lechgaufest-urspring-2/
END:VEVENT
BEGIN:VEVENT
DTSTART;TZID=Europe/Berlin:20250719T180000
DTEND;TZID=Europe/Berlin:20250719T233000
DTSTAMP:20260423T103018
CREATED:20250212T165512Z
LAST-MODIFIED:20250513T120920Z
UID:474-1752948000-1752967800@www.trachtenverein-hofstetten.de
SUMMARY:Gartenfest
DESCRIPTION:Unser Gartenfest erfreut sich jedes Jahr großer Beliebtheit\, \nda es sich im Freien an einem lauen Sommerabend \neinfach schön gemeinsam feiern lässt \nund für jedes Alter etwas geboten ist.
URL:https://www.trachtenverein-hofstetten.de/event/gartenfest-2/
END:VEVENT
BEGIN:VEVENT
DTSTART;VALUE=DATE:20250713
DTEND;VALUE=DATE:20250714
DTSTAMP:20260423T103018
CREATED:20250212T192145Z
LAST-MODIFIED:20250215T055532Z
UID:521-1752364800-1752451199@www.trachtenverein-hofstetten.de
SUMMARY:99. Lechgautrachtenfest
DESCRIPTION:Festzelt Rott \nDie Aufstellung zum Kirchenzug ist um 08.45\, \nder Gottesdienst beginnt um 09.30 Uhr und \nder große Festumzug um 13:30 Uhr (Aufstellung um 13 Uhr).
URL:https://www.trachtenverein-hofstetten.de/event/99-lechgautrachtenfest/
CATEGORIES:Trachtenverein
END:VEVENT
BEGIN:VEVENT
DTSTART;TZID=Europe/Berlin:20250712T200000
DTEND;TZID=Europe/Berlin:20250712T200000
DTSTAMP:20260423T103018
CREATED:20250212T191945Z
LAST-MODIFIED:20250215T055450Z
UID:518-1752350400-1752350400@www.trachtenverein-hofstetten.de
SUMMARY:Gauheimatabend
DESCRIPTION:Festzelt Rott
URL:https://www.trachtenverein-hofstetten.de/event/gauheimatabend/
CATEGORIES:Trachtenverein
END:VEVENT
BEGIN:VEVENT
DTSTART;VALUE=DATE:20250620
DTEND;VALUE=DATE:20250623
DTSTAMP:20260423T103018
CREATED:20250212T191534Z
LAST-MODIFIED:20250215T055236Z
UID:513-1750377600-1750636799@www.trachtenverein-hofstetten.de
SUMMARY:Hofstettentreffen
DESCRIPTION:Hofstetten bei Eichstätt
URL:https://www.trachtenverein-hofstetten.de/event/hofstettentreffen/
CATEGORIES:Trachtenverein
END:VEVENT
BEGIN:VEVENT
DTSTART;TZID=Europe/Berlin:20250618T193000
DTEND;TZID=Europe/Berlin:20250618T220000
DTSTAMP:20260423T103018
CREATED:20250212T191753Z
LAST-MODIFIED:20250318T072204Z
UID:516-1750275000-1750284000@www.trachtenverein-hofstetten.de
SUMMARY:Trachtenwartetreffen
DESCRIPTION:Gasthaus zur Sonne\, Epfach
URL:https://www.trachtenverein-hofstetten.de/event/trachtenwartetreffen/
CATEGORIES:Trachtenverein
END:VEVENT
BEGIN:VEVENT
DTSTART;TZID=Europe/Berlin:20250525T133000
DTEND;TZID=Europe/Berlin:20250525T163000
DTSTAMP:20260423T103018
CREATED:20250212T191353Z
LAST-MODIFIED:20250331T062617Z
UID:510-1748179800-1748190600@www.trachtenverein-hofstetten.de
SUMMARY:54. Gaujugendtag
DESCRIPTION:Turnhalle Reichling
URL:https://www.trachtenverein-hofstetten.de/event/54-gaujugendtag/
CATEGORIES:Trachtenverein
END:VEVENT
BEGIN:VEVENT
DTSTART;VALUE=DATE:20250518
DTEND;VALUE=DATE:20250519
DTSTAMP:20260423T103018
CREATED:20250212T190746Z
LAST-MODIFIED:20250507T091406Z
UID:503-1747526400-1747612799@www.trachtenverein-hofstetten.de
SUMMARY:Huosigau-Heimattage
DESCRIPTION:Festzelt Merching \nFestgottesdienst 09:30 Uhr \nFestumzug 14:00 Uhr (Aufstellung um 13.30 Uhr) \nWir fahren mit dem Bus um 08.00 Uhr an der Turnhalle Hofstetten ab.
URL:https://www.trachtenverein-hofstetten.de/event/huosigau-heimattage/
CATEGORIES:Trachtenverein
END:VEVENT
BEGIN:VEVENT
DTSTART;TZID=Europe/Berlin:20250517T113000
DTEND;TZID=Europe/Berlin:20250517T160000
DTSTAMP:20260423T103018
CREATED:20250212T190533Z
LAST-MODIFIED:20250212T190533Z
UID:501-1747481400-1747497600@www.trachtenverein-hofstetten.de
SUMMARY:Jubilare-Essen
DESCRIPTION:
URL:https://www.trachtenverein-hofstetten.de/event/jubilare-essen/
LOCATION:Hipp\, Westerschondorfer Str. 15\, Hofstetten\, 86928\, Germany
CATEGORIES:Trachtenverein
END:VEVENT
BEGIN:VEVENT
DTSTART;TZID=Europe/Berlin:20250516T200000
DTEND;TZID=Europe/Berlin:20250516T200000
DTSTAMP:20260423T103018
CREATED:20250212T190415Z
LAST-MODIFIED:20250215T054607Z
UID:497-1747425600-1747425600@www.trachtenverein-hofstetten.de
SUMMARY:Heimatabend Merching
DESCRIPTION:Festzelt Merching
URL:https://www.trachtenverein-hofstetten.de/event/heimatabend-merching/
CATEGORIES:Trachtenverein
END:VEVENT
BEGIN:VEVENT
DTSTART;TZID=Europe/Berlin:20250504T084500
DTEND;TZID=Europe/Berlin:20250504T084500
DTSTAMP:20260423T103018
CREATED:20250212T185557Z
LAST-MODIFIED:20250215T054505Z
UID:491-1746348300-1746348300@www.trachtenverein-hofstetten.de
SUMMARY:Aktiv-Wertungsplatteln
DESCRIPTION:Stadtsaal\, Kaufbeuren
URL:https://www.trachtenverein-hofstetten.de/event/aktiv-wertungsplatteln/
CATEGORIES:Trachtenverein
END:VEVENT
BEGIN:VEVENT
DTSTART;TZID=Europe/Berlin:20250501T000000
DTEND;TZID=Europe/Berlin:20250501T000000
DTSTAMP:20260423T103018
CREATED:20250212T183845Z
LAST-MODIFIED:20250215T054347Z
UID:489-1746057600-1746057600@www.trachtenverein-hofstetten.de
SUMMARY:Almsingen (Jugend)
DESCRIPTION:Schönegger Käse-Alm\, Rottenbuch
URL:https://www.trachtenverein-hofstetten.de/event/almsingen-jugend/
CATEGORIES:Trachtenverein
END:VEVENT
BEGIN:VEVENT
DTSTART;TZID=Europe/Berlin:20250419T140000
DTEND;TZID=Europe/Berlin:20250419T160000
DTSTAMP:20260423T103018
CREATED:20250212T183602Z
LAST-MODIFIED:20250304T112732Z
UID:487-1745071200-1745078400@www.trachtenverein-hofstetten.de
SUMMARY:Eierkugeln
DESCRIPTION:
URL:https://www.trachtenverein-hofstetten.de/event/eierkugeln/
LOCATION:Spielplatz\, Ostend\, Hofstetten\, 86928\, Germany
CATEGORIES:Trachtenverein
END:VEVENT
END:VCALENDAR