BEGIN:VCALENDAR
VERSION:2.0
PRODID:-//D`Windachtaler Hofstetten e.V. - ECPv6.9.1//NONSGML v1.0//EN
CALSCALE:GREGORIAN
METHOD:PUBLISH
X-WR-CALNAME:D`Windachtaler Hofstetten e.V.
X-ORIGINAL-URL:https://www.trachtenverein-hofstetten.de
X-WR-CALDESC:Veranstaltungen für D`Windachtaler Hofstetten e.V.
REFRESH-INTERVAL;VALUE=DURATION:PT1H
X-Robots-Tag:noindex
X-PUBLISHED-TTL:PT1H
BEGIN:VTIMEZONE
TZID:Europe/Berlin
BEGIN:DAYLIGHT
TZOFFSETFROM:+0100
TZOFFSETTO:+0200
TZNAME:CEST
DTSTART:20260329T010000
END:DAYLIGHT
BEGIN:STANDARD
TZOFFSETFROM:+0200
TZOFFSETTO:+0100
TZNAME:CET
DTSTART:20261025T010000
END:STANDARD
END:VTIMEZONE
BEGIN:VEVENT
DTSTART;TZID=Europe/Berlin:20261222T173000
DTEND;TZID=Europe/Berlin:20261222T200000
DTSTAMP:20260423T190419
CREATED:20260116T174154Z
LAST-MODIFIED:20260116T174154Z
UID:1374-1797960600-1797969600@www.trachtenverein-hofstetten.de
SUMMARY:Waldweihnacht
DESCRIPTION:Den Abschluss unseres Trachtenjahres bildet wie immer unsere Waldweihnacht.
URL:https://www.trachtenverein-hofstetten.de/event/waldweihnacht/
LOCATION:Hofstetten
END:VEVENT
END:VCALENDAR