BEGIN:VCALENDAR
VERSION:2.0
PRODID:-//D`Windachtaler Hofstetten e.V. - ECPv6.9.1//NONSGML v1.0//EN
CALSCALE:GREGORIAN
METHOD:PUBLISH
X-WR-CALNAME:D`Windachtaler Hofstetten e.V.
X-ORIGINAL-URL:https://www.trachtenverein-hofstetten.de
X-WR-CALDESC:Veranstaltungen für D`Windachtaler Hofstetten e.V.
REFRESH-INTERVAL;VALUE=DURATION:PT1H
X-Robots-Tag:noindex
X-PUBLISHED-TTL:PT1H
BEGIN:VTIMEZONE
TZID:Europe/Berlin
BEGIN:DAYLIGHT
TZOFFSETFROM:+0100
TZOFFSETTO:+0200
TZNAME:CEST
DTSTART:20260329T010000
END:DAYLIGHT
BEGIN:STANDARD
TZOFFSETFROM:+0200
TZOFFSETTO:+0100
TZNAME:CET
DTSTART:20261025T010000
END:STANDARD
END:VTIMEZONE
BEGIN:VEVENT
DTSTART;TZID=Europe/Berlin:20260906T090000
DTEND;TZID=Europe/Berlin:20260906T120000
DTSTAMP:20260423T103727
CREATED:20260116T172327Z
LAST-MODIFIED:20260116T172327Z
UID:1354-1788685200-1788696000@www.trachtenverein-hofstetten.de
SUMMARY:Lechgau-Trachtenwallfahrt
DESCRIPTION:Zur Mutter Gottes in der Wallfahrtskirche auf dem Hohen Peißenberg pilgern die Trachtlerinnen und Trachtler am ersten Sonntag im September. \nAufstellung um 09.15 Uhr\, Abgang um 09.30 Uhr\, Gottesdienst um 10.30 Uhr
URL:https://www.trachtenverein-hofstetten.de/event/lechgau-trachtenwallfahrt/
LOCATION:Wallfahrtskirche Hohenpeißenbeg
END:VEVENT
END:VCALENDAR