BEGIN:VCALENDAR
VERSION:2.0
PRODID:-//D`Windachtaler Hofstetten e.V. - ECPv6.9.1//NONSGML v1.0//EN
CALSCALE:GREGORIAN
METHOD:PUBLISH
X-WR-CALNAME:D`Windachtaler Hofstetten e.V.
X-ORIGINAL-URL:https://www.trachtenverein-hofstetten.de
X-WR-CALDESC:Veranstaltungen für D`Windachtaler Hofstetten e.V.
REFRESH-INTERVAL;VALUE=DURATION:PT1H
X-Robots-Tag:noindex
X-PUBLISHED-TTL:PT1H
BEGIN:VTIMEZONE
TZID:Europe/Berlin
BEGIN:DAYLIGHT
TZOFFSETFROM:+0100
TZOFFSETTO:+0200
TZNAME:CEST
DTSTART:20260329T010000
END:DAYLIGHT
BEGIN:STANDARD
TZOFFSETFROM:+0200
TZOFFSETTO:+0100
TZNAME:CET
DTSTART:20261025T010000
END:STANDARD
END:VTIMEZONE
BEGIN:VEVENT
DTSTART;TZID=Europe/Berlin:20261017T190000
DTEND;TZID=Europe/Berlin:20261017T223000
DTSTAMP:20260423T114144
CREATED:20260116T172819Z
LAST-MODIFIED:20260116T172819Z
UID:1358-1792263600-1792276200@www.trachtenverein-hofstetten.de
SUMMARY:Jahreshauptversammlung mit Ehrungen
DESCRIPTION:Wir laden alle Mitglieder herzlich ein zu unserer Jahreshauptversammlung am Kirchweihsamstag. \nAn diesem Abend wollen wir auch verdiente Mitglieder ehren. \nZuvor findet um 18 Uhr eine Vereinsmesse in der Pfarrkirche Hofstetten statt.
URL:https://www.trachtenverein-hofstetten.de/event/jahreshauptversammlung-mit-ehrungen/
LOCATION:Landhotel Hipp Hofstetten
END:VEVENT
END:VCALENDAR