BEGIN:VCALENDAR
VERSION:2.0
PRODID:-//D`Windachtaler Hofstetten e.V. - ECPv6.9.1//NONSGML v1.0//EN
CALSCALE:GREGORIAN
METHOD:PUBLISH
X-WR-CALNAME:D`Windachtaler Hofstetten e.V.
X-ORIGINAL-URL:https://www.trachtenverein-hofstetten.de
X-WR-CALDESC:Veranstaltungen für D`Windachtaler Hofstetten e.V.
REFRESH-INTERVAL;VALUE=DURATION:PT1H
X-Robots-Tag:noindex
X-PUBLISHED-TTL:PT1H
BEGIN:VTIMEZONE
TZID:Europe/Berlin
BEGIN:DAYLIGHT
TZOFFSETFROM:+0100
TZOFFSETTO:+0200
TZNAME:CEST
DTSTART:20260329T010000
END:DAYLIGHT
BEGIN:STANDARD
TZOFFSETFROM:+0200
TZOFFSETTO:+0100
TZNAME:CET
DTSTART:20261025T010000
END:STANDARD
END:VTIMEZONE
BEGIN:VEVENT
DTSTART;TZID=Europe/Berlin:20260404T140000
DTEND;TZID=Europe/Berlin:20260404T160000
DTSTAMP:20260423T120103
CREATED:20260114T211957Z
LAST-MODIFIED:20260114T211957Z
UID:1320-1775311200-1775318400@www.trachtenverein-hofstetten.de
SUMMARY:Eierkugeln
DESCRIPTION:Am Ostend-Spielplatz trifft man sich wie jedes Jahr zum Eierkugeln.
URL:https://www.trachtenverein-hofstetten.de/event/eierkugeln-2/
LOCATION:Spielplatz\, Ostend\, Hofstetten\, 86928\, Germany
END:VEVENT
END:VCALENDAR